BEGIN:VCALENDAR
VERSION:2.0
PRODID:Events Booking
BEGIN:VEVENT
UID:69e8a4a826e13
SUMMARY:Morning Sea Safari (3 hrs)
DESCRIPTION:Depart Ventry Harbour to Great Blasket Island past Dunbeg prehi
 storic fort \, Slea Head and Coumenol Beach towards Blasket Sound\; views 
 of Blasket village and beautiful Trá Bán [White Strand] and resident pop
 ulation of seals\; return via “Wild Bank” in Dingle Bay with chance to
  see dolphins\, basking shark or minke whales.
DTSTART:20260627T090000Z
DTEND:20260627T120000Z
DTSTAMP:20260422T063624Z
ORGANIZER;CN=Blasket Island Eco Marine Tours:MAILTO:contact@marinetours.ie
END:VEVENT
END:VCALENDAR